BEGIN:VCALENDAR
VERSION:2.0
PRODID:-//Alme - Das Dorf an den Quellen - ECPv6.15.20//NONSGML v1.0//EN
CALSCALE:GREGORIAN
METHOD:PUBLISH
X-WR-CALNAME:Alme - Das Dorf an den Quellen
X-ORIGINAL-URL:https://alme-info.de
X-WR-CALDESC:Veranstaltungen für Alme - Das Dorf an den Quellen
REFRESH-INTERVAL;VALUE=DURATION:PT1H
X-Robots-Tag:noindex
X-PUBLISHED-TTL:PT1H
BEGIN:VTIMEZONE
TZID:Europe/Berlin
BEGIN:DAYLIGHT
TZOFFSETFROM:+0100
TZOFFSETTO:+0200
TZNAME:CEST
DTSTART:20250330T010000
END:DAYLIGHT
BEGIN:STANDARD
TZOFFSETFROM:+0200
TZOFFSETTO:+0100
TZNAME:CET
DTSTART:20251026T010000
END:STANDARD
BEGIN:DAYLIGHT
TZOFFSETFROM:+0100
TZOFFSETTO:+0200
TZNAME:CEST
DTSTART:20260329T010000
END:DAYLIGHT
BEGIN:STANDARD
TZOFFSETFROM:+0200
TZOFFSETTO:+0100
TZNAME:CET
DTSTART:20261025T010000
END:STANDARD
BEGIN:DAYLIGHT
TZOFFSETFROM:+0100
TZOFFSETTO:+0200
TZNAME:CEST
DTSTART:20270328T010000
END:DAYLIGHT
BEGIN:STANDARD
TZOFFSETFROM:+0200
TZOFFSETTO:+0100
TZNAME:CET
DTSTART:20271031T010000
END:STANDARD
END:VTIMEZONE
BEGIN:VEVENT
DTSTART;VALUE=DATE:20261201
DTEND;VALUE=DATE:20261225
DTSTAMP:20260425T160540
CREATED:20251207T141944Z
LAST-MODIFIED:20251207T141944Z
UID:25809-1796083200-1798156799@alme-info.de
SUMMARY:Lebendiger Adventskalender 01.-24.12.
DESCRIPTION:Lebendiger Adventskalender 01.-24.12.
URL:https://alme-info.de/termin/lebendiger-adventskalender-01-24-12/
LOCATION:Alme
CATEGORIES:Almer Veranstaltungskalender
END:VEVENT
BEGIN:VEVENT
DTSTART;TZID=Europe/Berlin:20261206T140000
DTEND;TZID=Europe/Berlin:20261206T140000
DTSTAMP:20260425T160540
CREATED:20251207T141945Z
LAST-MODIFIED:20260314T103034Z
UID:25810-1796565600-1796565600@alme-info.de
SUMMARY:Weihnachtsmarkt
DESCRIPTION:Handgemachtes für den guten Zweck\nAm Freitag\, den 06. Dezember 2026\, lädt das Team des Almer Entenstalls ab 14:00 Uhr zum traditionellen Weihnachtsmarkt ein. \nIN diesem Jahr kooperieren die Veranstalterinnen mit dem örtlichen Familientreff\, um ein besonderes Programm für Groß und Klein zu bieten. Der gesamt Erlös der Veranstaltung kommt dem Bildungsprojekt „pro dogbo“ zugute\, das Schulen und Ausbildungswerkstätten im westafrikanischen Benin fördert. \nDer kleine\, aber feine Markt rund um den Almer Entenstall ist eine Privatinitiative der fünf Almerinnen Sonja Rohlfing\, Manuela Schulte\, Resi Kraft\, Daniela Bane und Heike Hettegger. Mit der Unterstützung zahlreicher fleißiger Hände aus dem Dorf wurde ein abwechslungsreiches Angebot zusammengestellt: Die Besucher erwartet eine Auswahl an handgefertigten Produkten aus heimischen Werkstätten und Küchen. \nFür das leibliche Wohl mit Speisen und Getränken ist ebenso gesorgt wie für die musikalische Untermalung durch Live-Beiträge. \nDa der Markt in diesem Jahr auf den Nikolaustag fällt\, findet das Nikolaustreffen des Familientreffs ebenfalls am Entenstall statt.
URL:https://alme-info.de/termin/weihnachtsmarkt/
LOCATION:Entenstall\, Untere Bahnhofstraße / Almebrücke
CATEGORIES:Almer Veranstaltungskalender
END:VEVENT
BEGIN:VEVENT
DTSTART;TZID=Europe/Berlin:20261210T140000
DTEND;TZID=Europe/Berlin:20261210T140000
DTSTAMP:20260425T160540
CREATED:20251207T141945Z
LAST-MODIFIED:20251207T141945Z
UID:25811-1796911200-1796911200@alme-info.de
SUMMARY:Almer Wandertreff
DESCRIPTION:Almer Wandertreff
URL:https://alme-info.de/termin/almer-wandertreff-24/
LOCATION:Entenstall\, Untere Bahnhofstraße / Almebrücke
CATEGORIES:Almer Veranstaltungskalender
END:VEVENT
BEGIN:VEVENT
DTSTART;VALUE=DATE:20261212
DTEND;VALUE=DATE:20261213
DTSTAMP:20260425T160540
CREATED:20251207T141959Z
LAST-MODIFIED:20251207T141959Z
UID:25812-1797033600-1797119999@alme-info.de
SUMMARY:Adventfeier der Ortscaritas
DESCRIPTION:Adventfeier der Ortscaritas
URL:https://alme-info.de/termin/adventfeier-der-ortscaritas/
LOCATION:Alme
CATEGORIES:Almer Veranstaltungskalender
END:VEVENT
BEGIN:VEVENT
DTSTART;TZID=Europe/Berlin:20261219T140000
DTEND;TZID=Europe/Berlin:20261219T160000
DTSTAMP:20260425T160540
CREATED:20251207T141959Z
LAST-MODIFIED:20260221T120536Z
UID:25813-1797688800-1797696000@alme-info.de
SUMMARY:Alme trifft sich
DESCRIPTION:Alme trifft sich
URL:https://alme-info.de/termin/alme-trifft-sich-19/
LOCATION:Alme
CATEGORIES:Almer Veranstaltungskalender
END:VEVENT
BEGIN:VEVENT
DTSTART;VALUE=DATE:20261226
DTEND;VALUE=DATE:20261227
DTSTAMP:20260425T160540
CREATED:20251207T141959Z
LAST-MODIFIED:20251219T185759Z
UID:25814-1798243200-1798329599@alme-info.de
SUMMARY:Weihnachtsmesse
DESCRIPTION:Weihnachtsmesse
URL:https://alme-info.de/termin/weihnachtsmesse-2/
LOCATION:Alme
CATEGORIES:Almer Veranstaltungskalender
END:VEVENT
END:VCALENDAR